BEGIN:VCALENDAR
PRODID:-//AT Content Types//AT Event//EN
VERSION:2.0
METHOD:PUBLISH
BEGIN:VEVENT
DTSTAMP:20260424T202608Z
CREATED:20201005T110158Z
UID:ATEvent-da3ed87df2a3436f9fc36deee70b4721
LAST-MODIFIED:20201020T103450Z
SUMMARY:Opportunities to discuss charging
DTSTART:20201102T090000Z
DTEND:20201127T170000Z
DESCRIPTION:Due to the nature of the industry using radioactive substa
 nces\, SEPA has close working relationship via defined forums. We want
  to use these forums where possible to discuss this charging consultat
 ion but will be offering workshops where needed through November – i
 f you are interested in a workshop please contact radioactivesubstance
 @sepa.org.uk titling the email “Charging Consultation”. Depending 
 on demand we will set up a suitable workshop(s).
CLASS:PUBLIC
END:VEVENT
END:VCALENDAR
