BEGIN:VCALENDAR
PRODID:-//AT Content Types//AT Event//EN
VERSION:2.0
METHOD:PUBLISH
BEGIN:VEVENT
DTSTAMP:20260420T135421Z
CREATED:20250122T130143Z
UID:ATEvent-5da3485eed0e4a26941b6f794637a269
LAST-MODIFIED:20250122T130410Z
SUMMARY:Online information event
DTSTART:20250204T140000Z
DTEND:20250204T150000Z
DESCRIPTION:If you're interested in hearing more about the changes pro
 posed within our consultation and want to discuss\, join us at one of 
 our online sessions.\n\nBook your space by emailing: iaf@sepa.org.uk
CLASS:PUBLIC
END:VEVENT
END:VCALENDAR
