BEGIN:VCALENDAR
PRODID:-//AT Content Types//AT Event//EN
VERSION:2.0
METHOD:PUBLISH
BEGIN:VEVENT
DTSTAMP:20260424T215618Z
CREATED:20200120T111820Z
UID:ATEvent-6a6b0b52403d44a6a08b8e746c871b42
LAST-MODIFIED:20200120T111820Z
SUMMARY:River Leven community event -  Leven
DTSTART:20200210T100000Z
DTEND:20200210T160000Z
DESCRIPTION:Come along to our community event being held on\nMonday 10
  February (10am - 4pm) at the Caledonian Hotel\, 81 High St\, Leven\, 
 KY8 4NG.\n\nThe Leven Programme’s Connectivity Project is an environ
 mentally based project aimed at improving the path network and green s
 paces along the River Leven from Cameron Bridge to Levenmouth. \n\nWe 
 want to hear your stories about the river\, along with your ideas and 
 thoughts for the project at this early stage\, as your views will play
  a key role in the design process.\n\nDrop in for a chat.
CLASS:PUBLIC
END:VEVENT
END:VCALENDAR
