BEGIN:VCALENDAR
PRODID:-//AT Content Types//AT Event//EN
VERSION:2.0
METHOD:PUBLISH
BEGIN:VEVENT
DTSTAMP:20260424T215931Z
CREATED:20200120T111820Z
UID:ATEvent-1104667627e0416a967092dd2f0407ab
LAST-MODIFIED:20200120T111820Z
SUMMARY:River Leven community event - Leven
DTSTART:20200328T100000Z
DTEND:20200328T160000Z
DESCRIPTION:Come along to our community event being held on\nSaturday 
 28 March (10am - 4pm) at the Fife Renewables Innovation Centre\, Ajax 
 Way\, Leven\, KY8 3RS.\n\nThe Leven Programme’s Connectivity Project
  is an environmentally based project aimed at improving the path netwo
 rk and green spaces along the River Leven from Cameron Bridge to Leven
 mouth. \n\nWe want to hear your stories about the river\, along with y
 our ideas and thoughts for the project at this early stage\, as your v
 iews will play a key role in the design process.\n\nDrop in for a chat
 .
CLASS:PUBLIC
END:VEVENT
END:VCALENDAR
