BEGIN:VCALENDAR
PRODID:-//AT Content Types//AT Event//EN
VERSION:2.0
METHOD:PUBLISH
BEGIN:VEVENT
DTSTAMP:20260424T215515Z
CREATED:20200120T111820Z
UID:ATEvent-27e4506689734d309e9252c73a0e009a
LAST-MODIFIED:20200120T111820Z
SUMMARY:River Leven community event - Methilhill
DTSTART:20200302T100000Z
DTEND:20200302T160000Z
DESCRIPTION:Come along to our community event being held on\nMonday 2 
 March (10am - 4pm) at the Senior Citizens Centre\, Main Street\, Methi
 lhill\, KY8 2DP.\n\nThe Leven Programme’s Connectivity Project is an
  environmentally based project aimed at improving the path network and
  green spaces along the River Leven from Cameron Bridge to Levenmouth.
  \n\nWe want to hear your stories about the river\, along with your id
 eas and thoughts for the project at this early stage\, as your views w
 ill play a key role in the design process.\n\nDrop in for a chat.
CLASS:PUBLIC
END:VEVENT
END:VCALENDAR
