BEGIN:VCALENDAR
PRODID:-//AT Content Types//AT Event//EN
VERSION:2.0
METHOD:PUBLISH
BEGIN:VEVENT
DTSTAMP:20260424T185422Z
CREATED:20221114T125312Z
UID:ATEvent-9e76905e13b04380a3437f414472b49e
LAST-MODIFIED:20221121T101838Z
SUMMARY:Consultation event at Methilhill Bowling Club
DTSTART:20221208T110000Z
DTEND:20221208T160000Z
DESCRIPTION:Location: Methilhill Bowling Club Hall\, Main St\, Leven\,
  KY8 2DP\n\nCome along to our drop-in event to speak to the people wor
 king on the Levenmouth Connectivity Project and Restoring the River Le
 ven Project. \n\nThe project teams are looking forward to talking thro
 ugh the proposals\, answering your questions and hearing your views.
CLASS:PUBLIC
END:VEVENT
END:VCALENDAR
