BEGIN:VCALENDAR
PRODID:-//AT Content Types//AT Event//EN
VERSION:2.0
METHOD:PUBLISH
BEGIN:VEVENT
DTSTAMP:20260424T185335Z
CREATED:20221114T125312Z
UID:ATEvent-7f4975b5fd944cb6a8145d13f6083441
LAST-MODIFIED:20221121T101838Z
SUMMARY:Consultation event at Bayview Stadium
DTSTART:20221201T150000Z
DTEND:20221201T200000Z
DESCRIPTION:Location: Jeek Fleming Suite\, Bayview Stadium\, Harbour V
 iew\, Methil\, KY8 3RW\n\nCome along to our drop-in event to speak to 
 the people working on the Levenmouth Connectivity Project and Restorin
 g the River Leven Project. \n\nThe project teams are looking forward t
 o talking through the proposals\, answering your questions and hearing
  your views.\n\nThere is a lift available for those who require it.
CLASS:PUBLIC
END:VEVENT
END:VCALENDAR
