BEGIN:VCALENDAR
PRODID:-//AT Content Types//AT Event//EN
VERSION:2.0
METHOD:PUBLISH
BEGIN:VEVENT
DTSTAMP:20260424T185658Z
CREATED:20230330T120244Z
UID:ATEvent-20cb3d53bc1c48fd98a1911f3a2ad973
LAST-MODIFIED:20230420T153936Z
SUMMARY:River Park Routes Pre-Application Consultation - Event 1
DTSTART:20230421T120000Z
DTEND:20230421T180000Z
DESCRIPTION:Whilst there have been a range of community engagement eve
 nts and activities held over the last three years\, we are holding two
  further public drop-in events to allow interested parties to view and
  comment on the current proposals for the River Park Routes in advance
  of making an application for planning permission. The first event wil
 l allow the public to provide feedback on working proposals\, with the
  second event demonstrating how this community input has been integrat
 ed into the designs.\n\nThis consultation is specific to the River Par
 k Routes and does not include the wider Active Travel Network being de
 livered by Fife Council.
CLASS:PUBLIC
END:VEVENT
END:VCALENDAR
