BEGIN:VCALENDAR
PRODID:-//AT Content Types//AT Event//EN
VERSION:2.0
METHOD:PUBLISH
BEGIN:VEVENT
DTSTAMP:20260424T202247Z
CREATED:20230330T120244Z
UID:ATEvent-3fe16ff8a6064291882b5b96924a148d
LAST-MODIFIED:20230420T153936Z
SUMMARY:River Park Routes Pre-Application Consultation - Event 2
DTSTART:20230519T120000Z
DTEND:20230519T180000Z
DESCRIPTION:Whilst there have been a range of community engagement eve
 nts and activities held over the last three years\, we are holding two
  further public drop-in events to allow interested parties to view and
  comment on the current proposals for the River Park Routes in advance
  of making an application for planning permission. The first event wil
 l allow the public to provide feedback on working proposals\, with the
  second event demonstrating how this community input has been integrat
 ed into the designs.\n\nThis consultation is specific to the River Par
 k Routes and does not include the wider Active Travel Network being de
 livered by Fife Council.
CLASS:PUBLIC
END:VEVENT
END:VCALENDAR
